Workbook

Sheet МУК
J1: Приложение 1к рекомендациям по составлениюинформационно-аналитического отчета за 2024 год
B2: Показатели уровня информатизации учреждений культуры
B3: Вожегодский муниципальный округ
B4: (наименование муниципального района/городского округа)
A5: ВНИМАНИЕ! В таблице имеются проверочные строки, ячейки которых при некорректных данных окрашиваются в красный цвет. Если после заполнения таблицы, в ней остались ячейки красного цвета, данные столбца с выделенной ячейкой необходимо перепроверить (см.примечания). | C5: Орган управления культуры муниципального образования | D5: Библиотеки (ЦБС, филиалы, структурные подразделения клубов) | E5: Музеи | F5: Дома культуры, клубы | G5: ЦТНК, Центры и Дома ремесел | H5: Парки культуры и отдыха | I5: Киноучреждения (юр.лица) | J5: Театры | K5: Концертные организации и коллективы | L5: Информационные и методические центры (юр.лица) | M5: Централизованная бухгалтерия | N5: Образовательные учреждения дополнительного образования детей | O5: Итого
C7: 1 | D7: 2 | E7: 3 | F7: 4 | G7: 5 | H7: 6 | I7: 7 | J7: 8 | K7: 9 | L7: 10 | M7: 11 | N7: 12 | O7: 13
A8: 1 | B8: Количество учреждений, всего (сетевых единиц) | E8: 1 | O8: =SUM(C8:N8) -> 1
A9: 2 | B9: Количество учреждений, оснащенных ПК (сетевых единиц) | E9: 1 | O9: =SUM(C9:N9) -> 1
A10: 3 | B10: Количество ПК, всего (ед.) | E10: 7 | O10: =SUM(C10:N10) -> 7
A11: 4 | B11: в том числе для посетителей (ед.) | E11: 0 | O11: =SUM(C11:N11) -> 0
B12: Количество ПК, имеющих общий срок эксплуатации:
A13: 5 | B13: до 3 лет | E13: 1 | O13: =SUM(C13:N13) -> 1
A14: 6 | B14: от 3 до 6 лет | E14: 0 | O14: =SUM(C14:N14) -> 0
A15: 7 | B15: свыше 6 лет | E15: 6 | O15: =SUM(C15:N15) -> 6
A16: 8 | B16: Количество ПК с установленными лицензионными операционными системами, всего: | E16: 7 | O16: =SUM(C16:N16) -> 7
A17: 9 | B17: в том числе:- Windows 11 | E17: 1 | O17: =SUM(C17:N17) -> 1
A18: 10 | B18: - Windows 10 | E18: 2 | O18: =SUM(C18:N18) -> 2
A19: 11 | B19: - Astra Linux | E19: 1 | O19: =SUM(C19:N19) -> 1
A20: 12 | B20: - ALT Linux | E20: 0 | O20: =SUM(C20:N20) -> 0
A21: 13 | B21: - Другие | E21: 3 | O21: =SUM(C21:N21) -> 3
A22: 14 | B22: Количество ПК с установленным лицензионным офисным программным обеспечением, всего: | E22: 5 | O22: =SUM(C22:N22) -> 5
A23: 15 | B23: в том числе: - Microsoft Office | E23: 5 | O23: =SUM(C23:N23) -> 5
A24: 16 | B24: - МойОфис | E24: 0 | O24: =SUM(C24:N24) -> 0
... A32: 24 | B32: в том числе для посетителей (ед.) | E32: 0 | O32: =SUM(C32:N32) -> 0
B33: Количество учреждений, имеющих скорость интернет-соединения:
A34: 25 | B34: - до 512 Кбит/с | E34: 0 | O34: =SUM(C34:N34) -> 0
A35: 26 | B35: - от 512 Кбит/с и выше | E35: 1 | O35: =SUM(C35:N35) -> 1
A36: 27 | B36: Количество учреждений, имеющих электронную почту (сетевых единиц) | E36: 1 | O36: =SUM(C36:N36) -> 1 | P36: =свод!F107 -> 1
B37: проверочная строка | C37: =I!F$6 -> 0 | D37: =II!F$6 -> 0 | E37: =III!F$6 -> 1 | F37: ='IV-VI'!F$6 -> 0 | G37: ='IV-VI'!F$40 -> 0 | H37: ='IX-XI'!F$6 -> 0 | I37: ='IX-XI'!F$8 -> 0 | J37: ='VII-VIII'!F$6 -> 0 | K37: ='VII-VIII'!F$9 -> 0 | L37: ='IV-VI'!F$43 -> 0 | M37: ='IX-XI'!F$10 -> 0 | N37: =XII!F$6 -> 0
B38: Переход к приложению 1.1 | C38: добавить эл.адрес | D38: добавить эл.адрес | E38: добавить эл.адрес | F38: добавить эл.адрес | G38: добавить эл.адрес | H38: добавить эл.адрес | I38: добавить эл.адрес | J38: добавить эл.адрес | K38: добавить эл.адрес | L38: добавить эл.адрес | M38: добавить эл.адрес | N38: добавить эл.адрес
A39: 28 | B39: Количество учреждений, имеющих собственный Web-сайт (единиц) | E39: 1 | O39: =SUM(C39:N39) -> 1 | P39: =свод!C107 -> 1
B40: проверочная строка | C40: =I!C$6 -> 0 | D40: =II!C$6 -> 0 | E40: =III!C$6 -> 1 | F40: ='IV-VI'!C$6 -> 0 | G40: ='IV-VI'!C$40 -> 0 | H40: ='IX-XI'!C$6 -> 0 | I40: ='IX-XI'!C$8 -> 0 | J40: ='VII-VIII'!C$6 -> 0 | K40: ='VII-VIII'!C$9 -> 0 | L40: ='IV-VI'!C$43 -> 0 | M40: ='IX-XI'!C$10 -> 0 | N40: =XII!C$6 -> 0
B41: Переход к приложению 1.1 | C41: добавить эл.адрес | E41: добавить эл.адрес | F41: добавить эл.адрес | G41: добавить эл.адрес | H41: добавить эл.адрес | I41: добавить эл.адрес | J41: добавить эл.адрес | K41: добавить эл.адрес | L41: добавить эл.адрес | M41: добавить эл.адрес | N41: добавить эл.адрес
A42: 29 | B42: Число посещений официального сайта учреждения (сеансов взаимодействия посетителей с сайтом, включающих один и более просмотров страницы) при его наличии, единиц | E42: 2653 | O42: =SUM(C42:N42) -> 2653
A43: 30 | B43: Количество учреждений, имеющих страницу на cultinfo.ru или другом сайте (в т.ч. в соцсетях) | E43: 1 | O43: =SUM(C43:N43) -> 1
B44: проверочная строка по адресам | C44: =I!D6+I!E6 -> 0 | D44: =II!D6+II!E6 -> 0 | E44: =III!D6+III!E6 -> 5 | F44: ='IV-VI'!D6+'IV-VI'!E6 -> 0 | G44: ='IV-VI'!D40+'IV-VI'!E40 -> 0 | H44: ='IX-XI'!D6+'IX-XI'!E6 -> 0 | I44: ='IX-XI'!D8+'IX-XI'!E8 -> 0 | J44: ='VII-VIII'!D6+'VII-VIII'!E6 -> 0 | K44: ='VII-VIII'!D9+'VII-VIII'!E9 -> 0 | L44: ='IV-VI'!D43+'IV-VI'!E43 -> 0 | M44: ='IX-XI'!D10+'IX-XI'!E10 -> 0 | N44: =XII!D6+XII!E6 -> 0
B45: Переход к приложению 1.1 | C45: добавить адрес | D45: добавить адрес | E45: добавить адрес | F45: добавить адрес | G45: добавить адрес | H45: добавить адрес | I45: добавить адрес | J45: добавить адрес | K45: добавить адрес | L45: добавить адрес | M45: добавить адрес | N45: добавить адрес
A46: 31 | B46: Количество учреждений, имеющих локальную компьютерную сеть | E46: 1 | O46: =SUM(C46:N46) -> 1
A47: 32 | B47: Количество учреждений, имеющих регулярно обновляемые справочно-правовые системы | E47: 0 | O47: =SUM(C47:N47) -> 0
A48: 33 | B48: в том числе: - Консультант Плюс | E48: 0 | O48: =SUM(C48:N48) -> 0
A49: 34 | B49: - Гарант | E49: 0 | O49: =SUM(C49:N49) -> 0
A50: 35 | B50: - Другие | E50: 0 | O50: =SUM(C50:N50) -> 0
B51: Количество учреждений (сетевых единиц), имеющих:
A52: 36 | B52: - Серверы | E52: 0 | O52: =SUM(C52:N52) -> 0
A53: 37 | B53: - Сканеры | E53: 3 | O53: =SUM(C53:N53) -> 3
A54: 38 | B54: - Принтеры | E54: 3 | O54: =SUM(C54:N54) -> 3
A55: 39 | B55: - Копировальные аппараты | E55: 1 | O55: =SUM(C55:N55) -> 1
A56: 40 | B56: - МФУ (многофункциональные устройства) | E56: 2 | O56: =SUM(C56:N56) -> 2
B57: Структура расходов на информатизацию, тыс. руб.:
A58: 41 | B58: Внутренние затраты на внедрение и использование цифровых технологий: | E58: 778.8 | O58: =SUM(C58:N58) -> 778.8
A59: 42 | B59: На приобретение машин и оборудования, связанных с цифровыми технологиями, а также на их техническое обслуживание, модернизацию, текущий и капитальный ремонт, выполненные собственными силами, из них на приобретение: | E59: 591 | O59: =SUM(C59:N59) -> 591
A60: 43 | B60: вычислительной техники и оргтехники | E60: 62 | O60: =SUM(C60:N60) -> 62
A61: 44 | B61: коммуникационного оборудования | E61: 529 | O61: =SUM(C61:N61) -> 529
A62: 45 | B62: На приобретение программного обеспечения, адаптацию и доработку программного обеспечения, выполненные собственными силами | E62: 156.3 | O62: =SUM(C62:N62) -> 156.3
A63: 46 | B63: из них российского программного обеспечения | E63: 4.4 | O63: =SUM(C63:N63) -> 4.4
A64: 47 | B64: На обучение сотрудников, связанное с внедрением и использованием цифровых технологий | E64: 0 | O64: =SUM(C64:N64) -> 0
A65: 48 | B65: На оплату услуг электросвязи | E65: 31.5 | O65: =SUM(C65:N65) -> 31.5
A66: 49 | B66: из них на оплату доступа к Интернету | E66: 16.8 | O66: =SUM(C66:N66) -> 16.8
A67: 50 | B67: На приобретение цифрового контента (книги, музыкальные произведения, изображения, видео в электронном виде; цифровые модели и схемы (программы) обработки деталей и т.п.) | E67: 0 | O67: =SUM(C67:N67) -> 0
A68: 51 | B68: Прочие внутренние затраты на внедрение и использование цифровых технологий | E68: 0 | O68: =SUM(C68:N68) -> 0
A69: 52 | B69: Внешние затраты на внедрение и использование цифровых технологий (на оплату услуг сторонних организаций и специалистов, связанных с внедрением и использованием цифровых технологий (кроме услуг связи и обучения) - всего | E69: 39 | O69: =SUM(C69:N69) -> 39
... A75: 58 | B75: Прочие внешние затраты на внедрение и использование цифровых технологий | E75: 0 | O75: =SUM(C75:N75) -> 0
A76: 59 | B76: Итого затраты на внедрение и использование цифровых технологий: | C76: =C58+C69 -> 0 | D76: =D58+D69 -> 0 | E76: =E58+E69 -> 817.8 | F76: =F58+F69 -> 0 | G76: =G58+G69 -> 0 | H76: =H58+H69 -> 0 | I76: =I58+I69 -> 0 | J76: =J58+J69 -> 0 | ... N76: =N58+N69 -> 0 | O76: =SUM(C76:N76) -> 817.8
A77: 60 | B77: в том числеза счет средств федерального бюджета | E77: 689.4 | O77: =SUM(C77:N77) -> 689.4
A78: 61 | B78: за счет средств областного бюджета | E78: 36.3 | O78: =SUM(C78:N78) -> 36.3
A79: 62 | B79: за счет средств муниципального бюджета | E79: 77.8 | O79: =SUM(C79:N79) -> 77.8
A80: 63 | B80: за счет внебюджетных источников | E80: 14.3 | O80: =SUM(C80:N80) -> 14.3

Sheet I
B1: Адреса web-сайтов и электронные адреса учреждений
A2: =МУК!B3 -> Вожегодский муниципальный округ
B3: (наименование муниципального района/городского округа)
F4: Приложение 1.1.
A5: № п/п | B5: Наименование учреждения | C5: Адрес web-сайта | D5: Адрес страницы на cultinfo.ru, сайте администрации МО или других сайтах | E5: Адрес страницы в соц.сети (вконтакте, фейсбуке и др.) | F5: Электронный адрес учреждения
A6: I | B6: Орган управления культуры муниципального образования | C6: =COUNTA(C7) -> 0 | D6: =COUNTA(D7) -> 0 | E6: =COUNTA(E7) -> 0 | F6: =COUNTA(F7) -> 0
A7: 1 | B7: Отдел культуры, молодежи и туризма администрации Вожегодского муниципального округа

Sheet II
B1: Адреса web-сайтов и электронные адреса учреждений
A2: =МУК!B3 -> Вожегодский муниципальный округ
B3: (наименование муниципального района/городского округа)
F4: Приложение 1.1.
A5: № п/п | B5: Наименование учреждения | C5: Адрес web-сайта | D5: Адрес страницы на cultinfo.ru, сайте администрации МО или других сайтах | E5: Адрес страницы в соц.сети (вконтакте, фейсбуке и др.) | F5: Электронный адрес учреждения
A6: II | B6: Библиотеки | C6: =COUNTA(C7:C49) -> 0 | D6: =COUNTA(D7:D49) -> 0 | E6: =COUNTA(E7:E49) -> 0 | F6: =COUNTA(F7:F49) -> 0
A7: 1 | B7: Центральная библиотека
A8: 2 | B8: Детский отдел МБУК "Вожегодская ЦБС"
A9: 3 | B9: Бекетовский сельский филиал
A10: 4 | B10: Тигинский сельский филиал
A11: 5 | B11: Ючкинский сельский филиал
A12: 6 | B12: Явенгский сельский филиал
A13: 7 | B13: Кадниковский сельский филиал
A14: 8 | B14: Нижнеслободский сельский филиал
A15: 9
A16: 10
A17: 11
A18: 12
A19: 13
A20: 14
A21: 15
A22: 16
A23: 17
A24: 18
A25: 19
A26: 20
... A49: 43

Sheet III
B1: Адреса web-сайтов и электронные адреса учреждений
A2: =МУК!B3 -> Вожегодский муниципальный округ
B3: (наименование муниципального района/городского округа)
F4: Приложение 1.1.
A5: № п/п | B5: Наименование учреждения | C5: Адрес web-сайта | D5: Адрес страницы на cultinfo.ru, сайте администрации МО или других сайтах | E5: Адрес страницы в соц.сети (вконтакте, фейсбуке и др.) | F5: Электронный адрес учреждения
A6: III | B6: Музеи | C6: =COUNTA(C7:C14) -> 1 | D6: =COUNTA(D7:D14) -> 3 | E6: =COUNTA(E7:E14) -> 2 | F6: =COUNTA(F7:F14) -> 1
A7: 1 | B7: МБУК "Вожегодский краеведческий музей" | C7: https://вожегодскиймузей.рф/ | D7: https://www.culture.ru/institutes/11956/vozhegodskii-kraevedcheskii-muzei | E7: https://vk.com/id350865993 | F7: muzey.vozhega@yandex.ru
A8: 2 | D8: https://vmuzey.com/museum/vozhegodskiy-kraevedcheskiy-muzey | E8: https://vk.com/public115173391
A9: 3 | D9: https://cultinfo.ru/museums/municipal-museums/vozhegodsky-district-museum-of-local-lore.php
A10: 4
A11: 5
A12: 6
A13: 7
A14: 8

Sheet IV-VI
B1: Адреса web-сайтов и электронные адреса учреждений
A2: =МУК!B3 -> Вожегодский муниципальный округ
B3: (наименование муниципального района/городского округа)
F4: Приложение 1.1.
A5: № п/п | B5: Наименование учреждения | C5: Адрес web-сайта | D5: Адрес страницы на cultinfo.ru, сайте администрации МО или других сайтах | E5: Адрес страницы в соц.сети (вконтакте, фейсбуке и др.) | F5: Электронный адрес учреждения
A6: IV | B6: Учреждения клубного типа | C6: =COUNTA(C7:C39) -> 0 | D6: =COUNTA(D7:D39) -> 0 | E6: =COUNTA(E7:E39) -> 0 | F6: =COUNTA(F7:F39) -> 0
A7: =ROW()-6 -> 1 | B7: МБУК "Вожегодский ЦКР"
A8: =ROW()-6 -> 2 | B8: Ючкинский СДК
A9: =ROW()-6 -> 3 | B9: Бекетовский СДК
A10: =ROW()-6 -> 4 | B10: Тигинский СДК
A11: =ROW()-6 -> 5 | B11: Мишутинский СДК
A12: =ROW()-6 -> 6 | B12: Исаковский СК
A13: =ROW()-6 -> 7 | B13: Митюковский СДК
A14: =ROW()-6 -> 8 | B14: Нижнеслободский СДК
A15: =ROW()-6 -> 9 | B15: Кадниковский ДК
A16: =ROW()-6 -> 10 | B16: Явенгский СДК
A17: =ROW()-6 -> 11 | B17: Раменский ДК
A18: =ROW()-6 -> 12
A19: =ROW()-6 -> 13
A20: =ROW()-6 -> 14
A21: =ROW()-6 -> 15
A22: =ROW()-6 -> 16
A23: =ROW()-6 -> 17
A24: =ROW()-6 -> 18
A25: =ROW()-6 -> 19
A26: =ROW()-6 -> 20
A27: =ROW()-6 -> 21
A28: =ROW()-6 -> 22
A29: =ROW()-6 -> 23
... A39: =ROW()-6 -> 33
A40: V | B40: ЦТНК, Центры и Дома ремесел | C40: =COUNTA(C41:C42) -> 0 | D40: =COUNTA(D41:D42) -> 0 | E40: =COUNTA(E41:E42) -> 0 | F40: =COUNTA(F41:F42) -> 0
A41: 1 | B41: муниципальное бюджетное учреждение культуры "Вожегодский Центр традиционной народной культуры"
A42: 2
A43: VI | B43: Информационно-ресурсные центры | C43: =COUNTA(C44) -> 0 | D43: =COUNTA(D44) -> 0 | E43: =COUNTA(E44) -> 0 | F43: =COUNTA(F44) -> 0
A44: 1

Sheet VII-VIII
B1: Адреса web-сайтов и электронные адреса учреждений
A2: =МУК!B3 -> Вожегодский муниципальный округ
B3: (наименование муниципального района/городского округа)
F4: Приложение 1.1.
A5: № п/п | B5: Наименование учреждения | C5: Адрес web-сайта | D5: Адрес страницы на cultinfo.ru, сайте администрации МО или других сайтах | E5: Адрес страницы в соц.сети (вконтакте, фейсбуке и др.) | F5: Электронный адрес учреждения
A6: VII | B6: Театры | C6: =COUNTA(C7:C8) -> 0 | D6: =COUNTA(D7:D8) -> 0 | E6: =COUNTA(E7:E8) -> 0 | F6: =COUNTA(F7:F8) -> 0
A7: 1
A8: 2
A9: VIII | B9: Концертные организации | C9: =COUNTA(C10) -> 0 | D9: =COUNTA(D10) -> 0 | E9: =COUNTA(E10) -> 0 | F9: =COUNTA(F10) -> 0
A10: 1

Sheet IX-XI
B1: Адреса web-сайтов и электронные адреса учреждений
A2: =МУК!B3 -> Вожегодский муниципальный округ
B3: (наименование муниципального района/городского округа)
F4: Приложение 1.1.
A5: № п/п | B5: Наименование учреждения | C5: Адрес web-сайта | D5: Адрес страницы на cultinfo.ru, сайте администрации МО или других сайтах | E5: Адрес страницы в соц.сети (вконтакте, фейсбуке и др.) | F5: Электронный адрес учреждения
A6: IX | B6: Парки культуры и отдыха | C6: =COUNTA(C7) -> 0 | D6: =COUNTA(D7) -> 0 | E6: =COUNTA(E7) -> 0 | F6: =COUNTA(F7) -> 0
A7: 1
A8: X | B8: Учреждения кинообслуживания (юр.лица) | C8: =COUNTA(C9) -> 0 | D8: =COUNTA(D9) -> 0 | E8: =COUNTA(E9) -> 0 | F8: =COUNTA(F9) -> 0
A9: 1
A10: XI | B10: Централизованная бухгалтерия | C10: =COUNTA(C11) -> 0 | D10: =COUNTA(D11) -> 0 | E10: =COUNTA(E11) -> 0 | F10: =COUNTA(F11) -> 0
A11: 1

Sheet XII
B1: Адреса web-сайтов и электронные адреса учреждений
A2: =МУК!B3 -> Вожегодский муниципальный округ
B3: (наименование муниципального района/городского округа)
F4: Приложение 1.1.
A5: № п/п | B5: Наименование учреждения | C5: Адрес web-сайта | D5: Адрес страницы на cultinfo.ru, сайте администрации МО или других сайтах | E5: Адрес страницы в соц.сети (вконтакте, фейсбуке и др.) | F5: Электронный адрес учреждения
A6: XII | B6: Образовательные учреждения дополнительного образования | C6: =COUNTA(C7:C16) -> 0 | D6: =COUNTA(D7:D16) -> 0 | E6: =COUNTA(E7:E16) -> 0 | F6: =COUNTA(F7:F16) -> 0
A7: 1 | B7: Муниципальное бюджетное учреждение дополнительного образования "Вожегодская детская школа искусств"
A8: 2
A9: 3
A10: 4
A11: 5
A12: 6
A13: 7
A14: 8
A15: 9
A16: 10

Sheet свод
B1: Адреса web-сайтов и электронные адреса учреждений
A2: =МУК!B3 -> Вожегодский муниципальный округ
B3: (наименование муниципального района/городского округа)
F4: Приложение 1.1.
A5: № п/п | B5: Наименование учреждения | C5: Адрес web-сайта | D5: Адрес страницы на cultinfo.ru или другом сайте | E5: Адрес страницы в соц.сети (вконтакте, фейсбуке и др.) | F5: Электронный адрес учреждения
A6: I | B6: Орган управления культуры муниципального образования | C6: =IF(C7=0, 0, COUNTA(C7)) -> 0 | D6: =IF(D7=0, 0, COUNTA(D7)) -> 0 | E6: =IF(E7=0, 0, COUNTA(E7)) -> 0 | F6: =IF(F7=0, 0, COUNTA(F7)) -> 0
A7: 1 | B7: =I!B7 -> Отдел культуры, молодежи и туризма администрации Вожегодского муниципального округа | C7: =I!C7 -> 0 | D7: =I!D7 -> 0 | E7: =I!E7 -> 0 | F7: =I!F7 -> 0
A8: II | B8: Библиотеки | C8: =IF(COUNTIF(C9:C36, 0)=0, 0, COUNTA(C9:C36)-COUNT(C9:C36)) -> 0 | D8: =IF(COUNTIF(D9:D36, 0)=0, 0, COUNTA(D9:D36)-COUNT(D9:D36)) -> 0 | E8: =IF(COUNTIF(E9:E36, 0)=0, 0, COUNTA(E9:E36)-COUNT(E9:E36)) -> 0 | F8: =IF(COUNTIF(F9:F36, 0)=0, 0, COUNTA(F9:F36)-COUNT(F9:F36)) -> 0
A9: 1 | B9: =II!B7 -> Центральная библиотека | C9: =II!C7 -> 0 | D9: =II!D7 -> 0 | E9: =II!E7 -> 0 | F9: =II!F7 -> 0
A10: 2 | B10: =II!B8 -> Детский отдел МБУК "Вожегодская ЦБС" | C10: =II!C8 -> 0 | D10: =II!D8 -> 0 | E10: =II!E8 -> 0 | F10: =II!F8 -> 0
A11: 3 | B11: =II!B9 -> Бекетовский сельский филиал | C11: =II!C9 -> 0 | D11: =II!D9 -> 0 | E11: =II!E9 -> 0 | F11: =II!F9 -> 0
A12: 4 | B12: =II!B10 -> Тигинский сельский филиал | C12: =II!C10 -> 0 | D12: =II!D10 -> 0 | E12: =II!E10 -> 0 | F12: =II!F10 -> 0
A13: 5 | B13: =II!B11 -> Ючкинский сельский филиал | C13: =II!C11 -> 0 | D13: =II!D11 -> 0 | E13: =II!E11 -> 0 | F13: =II!F11 -> 0
A14: 6 | B14: =II!B12 -> Явенгский сельский филиал | C14: =II!C12 -> 0 | D14: =II!D12 -> 0 | E14: =II!E12 -> 0 | F14: =II!F12 -> 0
A15: 7 | B15: =II!B13 -> Кадниковский сельский филиал | C15: =II!C13 -> 0 | D15: =II!D13 -> 0 | E15: =II!E13 -> 0 | F15: =II!F13 -> 0
A16: 8 | B16: =II!B14 -> Нижнеслободский сельский филиал | C16: =II!C14 -> 0 | D16: =II!D14 -> 0 | E16: =II!E14 -> 0 | F16: =II!F14 -> 0
A17: 9 | B17: =II!B15 -> 0 | C17: =II!C15 -> 0 | D17: =II!D15 -> 0 | E17: =II!E15 -> 0 | F17: =II!F15 -> 0
A18: 10 | B18: =II!B16 -> 0 | C18: =II!C16 -> 0 | D18: =II!D16 -> 0 | E18: =II!E16 -> 0 | F18: =II!F16 -> 0
A19: 11 | B19: =II!B17 -> 0 | C19: =II!C17 -> 0 | D19: =II!D17 -> 0 | E19: =II!E17 -> 0 | F19: =II!F17 -> 0
A20: 12 | B20: =II!B18 -> 0 | C20: =II!C18 -> 0 | D20: =II!D18 -> 0 | E20: =II!E18 -> 0 | F20: =II!F18 -> 0
... A28: 20 | B28: =II!B26 -> 0 | C28: =II!C26 -> 0 | D28: =II!D26 -> 0 | E28: =II!E26 -> 0 | F28: =II!F26 -> 0
A29: 21 | F29: =II!F27 -> 0
A30: 22 | F30: =II!F28 -> 0
A31: 23 | F31: =II!F29 -> 0
A32: 24 | B32: =II!B30 -> 0 | C32: =II!C30 -> 0 | D32: =II!D30 -> 0 | E32: =II!E30 -> 0 | F32: =II!F30 -> 0
A33: 25 | B33: =II!B31 -> 0 | C33: =II!C31 -> 0 | D33: =II!D31 -> 0 | E33: =II!E31 -> 0 | F33: =II!F31 -> 0
A34: 26 | B34: =II!B32 -> 0 | C34: =II!C32 -> 0 | D34: =II!D32 -> 0 | E34: =II!E32 -> 0 | F34: =II!F32 -> 0
A35: 27 | B35: =II!B33 -> 0 | C35: =II!C33 -> 0 | D35: =II!D33 -> 0 | E35: =II!E33 -> 0 | F35: =II!F33 -> 0
A36: 28 | B36: =II!B49 -> 0 | C36: =II!C49 -> 0 | D36: =II!D49 -> 0 | E36: =II!E49 -> 0 | F36: =II!F49 -> 0
A37: III | B37: Музеи | C37: =IF(COUNTIF(C38:C45, 0)=0, 0, COUNTA(C38:C45)-COUNT(C38:C45)) -> 1 | D37: =IF(COUNTIF(D38:D45, 0)=0, 0, COUNTA(D38:D45)-COUNT(D38:D45)) -> 3 | E37: =IF(COUNTIF(E38:E45, 0)=0, 0, COUNTA(E38:E45)-COUNT(E38:E45)) -> 2 | F37: =IF(COUNTIF(F38:F45, 0)=0, 0, COUNTA(F38:F45)-COUNT(F38:F45)) -> 1
A38: 1 | B38: =III!B7 -> МБУК "Вожегодский краеведческий музей" | C38: =III!C7 -> https://вожегодскиймузей.рф/ | D38: =III!D7 -> https://www.culture.ru/institutes/11956/vozhegodskii-kraevedcheskii-muzei | E38: =III!E7 -> https://vk.com/id350865993 | F38: =III!F7 -> muzey.vozhega@yandex.ru
A39: 2 | B39: =III!B8 -> 0 | C39: =III!C8 -> 0 | D39: =III!D8 -> https://vmuzey.com/museum/vozhegodskiy-kraevedcheskiy-muzey | E39: =III!E8 -> https://vk.com/public115173391 | F39: =III!F8 -> 0
A40: 3 | B40: =III!B9 -> 0 | C40: =III!C9 -> 0 | D40: =III!D9 -> https://cultinfo.ru/museums/municipal-museums/vozhegodsky-district-museum-of-local-lore.php | E40: =III!E9 -> 0 | F40: =III!F9 -> 0
A41: 4 | B41: =III!B10 -> 0 | C41: =III!C10 -> 0 | D41: =III!D10 -> 0 | E41: =III!E10 -> 0 | F41: =III!F10 -> 0
A42: 5 | B42: =III!B11 -> 0 | C42: =III!C11 -> 0 | D42: =III!D11 -> 0 | E42: =III!E11 -> 0 | F42: =III!F11 -> 0
A43: 6 | B43: =III!B12 -> 0 | C43: =III!C12 -> 0 | D43: =III!D12 -> 0 | E43: =III!E12 -> 0 | F43: =III!F12 -> 0
A44: 7 | B44: =III!B13 -> 0 | C44: =III!C13 -> 0 | D44: =III!D13 -> 0 | E44: =III!E13 -> 0 | F44: =III!F13 -> 0
A45: 8 | B45: =III!B14 -> 0 | C45: =III!C14 -> 0 | D45: =III!D14 -> 0 | E45: =III!E14 -> 0 | F45: =III!F14 -> 0
A46: IV | B46: Учреждения клубного типа | C46: =IF(COUNTIF(C47:C79, 0)=0, 0, COUNTA(C47:C79)-COUNT(C47:C79)) -> 0 | D46: =IF(COUNTIF(D47:D79, 0)=0, 0, COUNTA(D47:D79)-COUNT(D47:D79)) -> 0 | E46: =IF(COUNTIF(E47:E79, 0)=0, 0, COUNTA(E47:E79)-COUNT(E47:E79)) -> 0 | F46: =IF(COUNTIF(F47:F79, 0)=0, 0, COUNTA(F47:F79)-COUNT(F47:F79)) -> 0
A47: 1 | B47: ='IV-VI'!B7 -> МБУК "Вожегодский ЦКР" | C47: ='IV-VI'!C7 -> 0 | D47: ='IV-VI'!D7 -> 0 | E47: ='IV-VI'!E7 -> 0 | F47: ='IV-VI'!F7 -> 0
A48: 2 | B48: ='IV-VI'!B8 -> Ючкинский СДК | C48: ='IV-VI'!C8 -> 0 | D48: ='IV-VI'!D8 -> 0 | E48: ='IV-VI'!E8 -> 0 | F48: ='IV-VI'!F8 -> 0
A49: 3 | B49: ='IV-VI'!B9 -> Бекетовский СДК | C49: ='IV-VI'!C9 -> 0 | D49: ='IV-VI'!D9 -> 0 | E49: ='IV-VI'!E9 -> 0 | F49: ='IV-VI'!F9 -> 0
A50: 4 | B50: ='IV-VI'!B10 -> Тигинский СДК | C50: ='IV-VI'!C10 -> 0 | D50: ='IV-VI'!D10 -> 0 | E50: ='IV-VI'!E10 -> 0 | F50: ='IV-VI'!F10 -> 0
A51: 5 | B51: ='IV-VI'!B11 -> Мишутинский СДК | C51: ='IV-VI'!C11 -> 0 | D51: ='IV-VI'!D11 -> 0 | E51: ='IV-VI'!E11 -> 0 | F51: ='IV-VI'!F11 -> 0
A52: 6 | B52: ='IV-VI'!B12 -> Исаковский СК | C52: ='IV-VI'!C12 -> 0 | D52: ='IV-VI'!D12 -> 0 | E52: ='IV-VI'!E12 -> 0 | F52: ='IV-VI'!F12 -> 0
A53: 7 | B53: ='IV-VI'!B13 -> Митюковский СДК | C53: ='IV-VI'!C13 -> 0 | D53: ='IV-VI'!D13 -> 0 | E53: ='IV-VI'!E13 -> 0 | F53: ='IV-VI'!F13 -> 0
A54: 8 | B54: ='IV-VI'!B14 -> Нижнеслободский СДК | C54: ='IV-VI'!C14 -> 0 | D54: ='IV-VI'!D14 -> 0 | E54: ='IV-VI'!E14 -> 0 | F54: ='IV-VI'!F14 -> 0
A55: 9 | B55: ='IV-VI'!B15 -> Кадниковский ДК | C55: ='IV-VI'!C15 -> 0 | D55: ='IV-VI'!D15 -> 0 | E55: ='IV-VI'!E15 -> 0 | F55: ='IV-VI'!F15 -> 0
A56: 10 | B56: ='IV-VI'!B16 -> Явенгский СДК | C56: ='IV-VI'!C16 -> 0 | D56: ='IV-VI'!D16 -> 0 | E56: ='IV-VI'!E16 -> 0 | F56: ='IV-VI'!F16 -> 0
A57: 11 | B57: ='IV-VI'!B17 -> Раменский ДК | C57: ='IV-VI'!C17 -> 0 | D57: ='IV-VI'!D17 -> 0 | E57: ='IV-VI'!E17 -> 0 | F57: ='IV-VI'!F17 -> 0
A58: 12 | B58: ='IV-VI'!B18 -> 0 | C58: ='IV-VI'!C18 -> 0 | D58: ='IV-VI'!D18 -> 0 | E58: ='IV-VI'!E18 -> 0 | F58: ='IV-VI'!F18 -> 0
... A79: 33 | B79: ='IV-VI'!B39 -> 0 | C79: ='IV-VI'!C39 -> 0 | D79: ='IV-VI'!D39 -> 0 | E79: ='IV-VI'!E39 -> 0 | F79: ='IV-VI'!F39 -> 0
A80: V | B80: ЦТНК, Центры и Дома ремесел | C80: =IF(COUNTIF(C81:C82, 0)=0, 0, COUNTA(C81:C82)-COUNT(C81:C82)) -> 0 | D80: =IF(COUNTIF(D81:D82, 0)=0, 0, COUNTA(D81:D82)-COUNT(D81:D82)) -> 0 | E80: =IF(COUNTIF(E81:E82, 0)=0, 0, COUNTA(E81:E82)-COUNT(E81:E82)) -> 0 | F80: =IF(COUNTIF(F81:F82, 0)=0, 0, COUNTA(F81:F82)-COUNT(F81:F82)) -> 0
A81: 1 | B81: ='IV-VI'!B41 -> муниципальное бюджетное учреждение культуры "Вожегодский Центр традиционной народной культуры" | C81: ='IV-VI'!C41 -> 0 | D81: ='IV-VI'!D41 -> 0 | E81: ='IV-VI'!E41 -> 0 | F81: ='IV-VI'!F41 -> 0
A82: 2 | B82: ='IV-VI'!B42 -> 0 | C82: ='IV-VI'!C42 -> 0 | D82: ='IV-VI'!D42 -> 0 | E82: ='IV-VI'!E42 -> 0 | F82: ='IV-VI'!F42 -> 0
A83: VI | B83: Информационно-ресурсные центры | C83: =IF(C84=0, 0, COUNTA(C84)) -> 0 | D83: =IF(D84=0, 0, COUNTA(D84)) -> 0 | E83: =IF(E84=0, 0, COUNTA(E84)) -> 0 | F83: =IF(F84=0, 0, COUNTA(F84)) -> 0
A84: 1 | B84: ='IV-VI'!B44 -> 0 | C84: ='IV-VI'!C44 -> 0 | D84: ='IV-VI'!D44 -> 0 | E84: ='IV-VI'!E44 -> 0 | F84: ='IV-VI'!F44 -> 0
A85: VII | B85: Театры | C85: =IF(COUNTIF(C86:C87, 0)=0, 0, COUNTA(C86:C87)-COUNT(C86:C87)) -> 0 | D85: =IF(COUNTIF(D86:D87, 0)=0, 0, COUNTA(D86:D87)-COUNT(D86:D87)) -> 0 | E85: =IF(COUNTIF(E86:E87, 0)=0, 0, COUNTA(E86:E87)-COUNT(E86:E87)) -> 0 | F85: =IF(COUNTIF(F86:F87, 0)=0, 0, COUNTA(F86:F87)-COUNT(F86:F87)) -> 0
A86: 1 | B86: ='VII-VIII'!B7 -> 0 | C86: ='VII-VIII'!C7 -> 0 | D86: ='VII-VIII'!D7 -> 0 | E86: ='VII-VIII'!E7 -> 0 | F86: ='VII-VIII'!F7 -> 0
A87: 2 | B87: ='VII-VIII'!B8 -> 0 | C87: ='VII-VIII'!C8 -> 0 | D87: ='VII-VIII'!D8 -> 0 | E87: ='VII-VIII'!E8 -> 0 | F87: ='VII-VIII'!F8 -> 0
A88: VIII | B88: Концертные организации | C88: =IF(C89=0, 0, COUNTA(C89)) -> 0 | D88: =IF(D89=0, 0, COUNTA(D89)) -> 0 | E88: =IF(E89=0, 0, COUNTA(E89)) -> 0 | F88: =IF(F89=0, 0, COUNTA(F89)) -> 0
A89: 1 | B89: ='VII-VIII'!B10 -> 0 | C89: ='VII-VIII'!C10 -> 0 | D89: ='VII-VIII'!D10 -> 0 | E89: ='VII-VIII'!E10 -> 0 | F89: ='VII-VIII'!F10 -> 0
A90: IX | B90: Парки культуры и отдыха | C90: =IF(C91=0, 0, COUNTA(C91)) -> 0 | D90: =IF(D91=0, 0, COUNTA(D91)) -> 0 | E90: =IF(E91=0, 0, COUNTA(E91)) -> 0 | F90: =IF(F91=0, 0, COUNTA(F91)) -> 0
A91: 1 | B91: ='IX-XI'!B7 -> 0 | C91: ='IX-XI'!C7 -> 0 | D91: ='IX-XI'!D7 -> 0 | E91: ='IX-XI'!E7 -> 0 | F91: ='IX-XI'!F7 -> 0
A92: X | B92: Учреждения кинообслуживания (юр.лица) | C92: =IF(C93=0, 0, COUNTA(C93)) -> 0 | D92: =IF(D93=0, 0, COUNTA(D93)) -> 0 | E92: =IF(E93=0, 0, COUNTA(E93)) -> 0 | F92: =IF(F93=0, 0, COUNTA(F93)) -> 0
A93: 1 | B93: ='IX-XI'!B9 -> 0 | C93: ='IX-XI'!C9 -> 0 | D93: ='IX-XI'!D9 -> 0 | E93: ='IX-XI'!E9 -> 0 | F93: ='IX-XI'!F9 -> 0
A94: XI | B94: Образовательные учреждения дополнительного образования | C94: =IF(COUNTIF(C95:C104, 0)=0, 0, COUNTA(C95:C104)-COUNT(C95:C104)) -> 0 | D94: =IF(COUNTIF(D95:D104, 0)=0, 0, COUNTA(D95:D104)-COUNT(D95:D104)) -> 0 | E94: =IF(COUNTIF(E95:E104, 0)=0, 0, COUNTA(E95:E104)-COUNT(E95:E104)) -> 0 | F94: =IF(COUNTIF(F95:F104, 0)=0, 0, COUNTA(F95:F104)-COUNT(F95:F104)) -> 0
A95: 1 | B95: =XII!B7 -> Муниципальное бюджетное учреждение дополнительного образования "Вожегодская детская школа искусств" | C95: =XII!C7 -> 0 | D95: =XII!D7 -> 0 | E95: =XII!E7 -> 0 | F95: =XII!F7 -> 0
A96: 2 | B96: =XII!B8 -> 0 | C96: =XII!C8 -> 0 | D96: =XII!D8 -> 0 | E96: =XII!E8 -> 0 | F96: =XII!F8 -> 0
A97: 3 | B97: =XII!B9 -> 0 | C97: =XII!C9 -> 0 | D97: =XII!D9 -> 0 | E97: =XII!E9 -> 0 | F97: =XII!F9 -> 0
A98: 4 | B98: =XII!B10 -> 0 | C98: =XII!C10 -> 0 | D98: =XII!D10 -> 0 | E98: =XII!E10 -> 0 | F98: =XII!F10 -> 0
A99: 5 | B99: =XII!B11 -> 0 | C99: =XII!C11 -> 0 | D99: =XII!D11 -> 0 | E99: =XII!E11 -> 0 | F99: =XII!F11 -> 0
A100: 6 | B100: =XII!B12 -> 0 | C100: =XII!C12 -> 0 | D100: =XII!D12 -> 0 | E100: =XII!E12 -> 0 | F100: =XII!F12 -> 0
A101: 7 | B101: =XII!B13 -> 0 | C101: =XII!C13 -> 0 | D101: =XII!D13 -> 0 | E101: =XII!E13 -> 0 | F101: =XII!F13 -> 0
A102: 8 | B102: =XII!B14 -> 0 | C102: =XII!C14 -> 0 | D102: =XII!D14 -> 0 | E102: =XII!E14 -> 0 | F102: =XII!F14 -> 0
A103: 9 | B103: =XII!B15 -> 0 | C103: =XII!C15 -> 0 | D103: =XII!D15 -> 0 | E103: =XII!E15 -> 0 | F103: =XII!F15 -> 0
A104: 10 | B104: =XII!B16 -> 0 | C104: =XII!C16 -> 0 | D104: =XII!D16 -> 0 | E104: =XII!E16 -> 0 | F104: =XII!F16 -> 0
A105: XII | B105: Централизованная бухгалтерия | C105: =IF(C106=0, 0, COUNTA(C106)) -> 0 | D105: =IF(D106=0, 0, COUNTA(D106)) -> 0 | E105: =IF(E106=0, 0, COUNTA(E106)) -> 0 | F105: =IF(F106=0, 0, COUNTA(F106)) -> 0
A106: 1 | B106: ='IX-XI'!B11 -> 0 | C106: ='IX-XI'!C11 -> 0 | D106: ='IX-XI'!D11 -> 0 | E106: ='IX-XI'!E11 -> 0 | F106: ='IX-XI'!F11 -> 0
B107: Итого: | C107: =C6+C8+C37+C46+C80+C83+C85+C88+C90+C92+C94+C105 -> 1 | D107: =D6+D8+D37+D46+D80+D83+D85+D88+D90+D92+D94+D105 -> 3 | E107: =E6+E8+E37+E46+E80+E83+E85+E88+E90+E92+E94+E105 -> 2 | F107: =F6+F8+F37+F46+F80+F83+F85+F88+F90+F92+F94+F105 -> 1
